BEGIN:VCALENDAR
VERSION:2.0
PRODID:-//Katolički bogoslovni fakultet - ECPv6.15.15//NONSGML v1.0//EN
CALSCALE:GREGORIAN
METHOD:PUBLISH
X-WR-CALNAME:Katolički bogoslovni fakultet
X-ORIGINAL-URL:https://www.kbf.unizg.hr
X-WR-CALDESC:Events for Katolički bogoslovni fakultet
REFRESH-INTERVAL;VALUE=DURATION:PT1H
X-Robots-Tag:noindex
X-PUBLISHED-TTL:PT1H
BEGIN:VTIMEZONE
TZID:Europe/Zagreb
BEGIN:DAYLIGHT
TZOFFSETFROM:+0100
TZOFFSETTO:+0200
TZNAME:CEST
DTSTART:20250330T010000
END:DAYLIGHT
BEGIN:STANDARD
TZOFFSETFROM:+0200
TZOFFSETTO:+0100
TZNAME:CET
DTSTART:20251026T010000
END:STANDARD
BEGIN:DAYLIGHT
TZOFFSETFROM:+0100
TZOFFSETTO:+0200
TZNAME:CEST
DTSTART:20260329T010000
END:DAYLIGHT
BEGIN:STANDARD
TZOFFSETFROM:+0200
TZOFFSETTO:+0100
TZNAME:CET
DTSTART:20261025T010000
END:STANDARD
BEGIN:DAYLIGHT
TZOFFSETFROM:+0100
TZOFFSETTO:+0200
TZNAME:CEST
DTSTART:20270328T010000
END:DAYLIGHT
BEGIN:STANDARD
TZOFFSETFROM:+0200
TZOFFSETTO:+0100
TZNAME:CET
DTSTART:20271031T010000
END:STANDARD
END:VTIMEZONE
BEGIN:VEVENT
DTSTART;VALUE=DATE:20260424
DTEND;VALUE=DATE:20260425
DTSTAMP:20260423T171102
CREATED:20250901T124735Z
LAST-MODIFIED:20250901T124735Z
UID:78688-1776988800-1777075199@www.kbf.unizg.hr
SUMMARY:Sjednica Fakultetskog vijeća
DESCRIPTION:
URL:https://www.kbf.unizg.hr/dogadjaj/sjednica-fakultetskog-vijeca-105/
CATEGORIES:Važni datumi
ATTACH;FMTTYPE=image/jpeg:https://www.kbf.unizg.hr/wp-content/uploads/2022/01/Katolicki_bogoslovni_fakultet_Zagreb.jpg
END:VEVENT
END:VCALENDAR